BEGIN:VCALENDAR
VERSION:2.0
PRODID:-//Batuc Bacana - ECPv6.15.20//NONSGML v1.0//EN
CALSCALE:GREGORIAN
METHOD:PUBLISH
X-ORIGINAL-URL:https://batucbacana.fr
X-WR-CALDESC:Events for Batuc Bacana
REFRESH-INTERVAL;VALUE=DURATION:PT1H
X-Robots-Tag:noindex
X-PUBLISHED-TTL:PT1H
BEGIN:VTIMEZONE
TZID:Europe/Paris
BEGIN:DAYLIGHT
TZOFFSETFROM:+0100
TZOFFSETTO:+0200
TZNAME:CEST
DTSTART:20240331T010000
END:DAYLIGHT
BEGIN:STANDARD
TZOFFSETFROM:+0200
TZOFFSETTO:+0100
TZNAME:CET
DTSTART:20241027T010000
END:STANDARD
BEGIN:DAYLIGHT
TZOFFSETFROM:+0100
TZOFFSETTO:+0200
TZNAME:CEST
DTSTART:20250330T010000
END:DAYLIGHT
BEGIN:STANDARD
TZOFFSETFROM:+0200
TZOFFSETTO:+0100
TZNAME:CET
DTSTART:20251026T010000
END:STANDARD
BEGIN:DAYLIGHT
TZOFFSETFROM:+0100
TZOFFSETTO:+0200
TZNAME:CEST
DTSTART:20260329T010000
END:DAYLIGHT
BEGIN:STANDARD
TZOFFSETFROM:+0200
TZOFFSETTO:+0100
TZNAME:CET
DTSTART:20261025T010000
END:STANDARD
BEGIN:DAYLIGHT
TZOFFSETFROM:+0100
TZOFFSETTO:+0200
TZNAME:CEST
DTSTART:20270328T010000
END:DAYLIGHT
BEGIN:STANDARD
TZOFFSETFROM:+0200
TZOFFSETTO:+0100
TZNAME:CET
DTSTART:20271031T010000
END:STANDARD
END:VTIMEZONE
BEGIN:VEVENT
DTSTART;TZID=Europe/Paris:20250923T193000
DTEND;TZID=Europe/Paris:20250923T220000
DTSTAMP:20260423T185338
CREATED:20250911T160855Z
LAST-MODIFIED:20251008T194001Z
UID:433-1758655800-1758664800@batucbacana.fr
SUMMARY:🚨 PAS DE RÉPÉTITION
DESCRIPTION:
URL:https://batucbacana.fr/planning/pas-de-repetition/
CATEGORIES:RÉPÉTITIONS
END:VEVENT
BEGIN:VEVENT
DTSTART;TZID=Europe/Paris:20250930T193000
DTEND;TZID=Europe/Paris:20250930T220000
DTSTAMP:20260423T185338
CREATED:20250911T160642Z
LAST-MODIFIED:20251008T194007Z
UID:431-1759260600-1759269600@batucbacana.fr
SUMMARY:COURS D’ESSAI n°2
DESCRIPTION:
URL:https://batucbacana.fr/planning/cours-dessai-n2/
CATEGORIES:RÉPÉTITIONS
END:VEVENT
BEGIN:VEVENT
DTSTART;VALUE=DATE:20251011
DTEND;VALUE=DATE:20251013
DTSTAMP:20260423T185338
CREATED:20250911T161255Z
LAST-MODIFIED:20251008T193837Z
UID:435-1760140800-1760313599@batucbacana.fr
SUMMARY:STAGE D'INTÉGRATION
DESCRIPTION:Planning \nSamedi 11 octobre\n09h00 – Accueil & café ☕\n09h30 – Démarrage du stage 🥁\n12h30 – Pause déjeuner (tiré du sac) 🍽\n14h00 – Reprise du stage 🎶\n16h00 – Pause goûter (tiré du sac) 🍪\n18h00 – Fin de la journée \nSoir – Dîner offert par Bacana 🍷🍲 \nDimanche 12 octobre\n09h00 – Accueil & café ☕\n09h30 – Démarrage 🥁\n12h30 – Pause déjeuner (tiré du sac) 🍽\n14h00 – Répète\n14h30 – Sortie musicale dans le village 🎵\n15h30 – Rangement & nettoyage collectif 🧹\n16h30 – Fin du stage 👋 \n___________ \nÀ apporter : \n\nVotre instrument 🙂\nCouverts/vaisselle : fourchette\, couteau\, cuillère\, assiette\, verre\, tasse\nRepas de midi : pour samedi et dimanche (il y a des frigos sur place)\n\nPour la nuit (gîte) : \n\nde quoi dormir : sac de couchage\, draps\nserviette de toilette
URL:https://batucbacana.fr/planning/stage-dintegration/
LOCATION:La Vacquerie-et-Saint-Martin-de-Castries\, La Vacquerie-et-Saint-Martin-de-Castries\, France
CATEGORIES:STAGES BACANA
END:VEVENT
BEGIN:VEVENT
DTSTART;TZID=Europe/Paris:20251014T193000
DTEND;TZID=Europe/Paris:20251014T220000
DTSTAMP:20260423T185338
CREATED:20251008T193336Z
LAST-MODIFIED:20251008T193832Z
UID:465-1760470200-1760479200@batucbacana.fr
SUMMARY:🚨 PAS DE RÉPÉTITION
DESCRIPTION:
URL:https://batucbacana.fr/planning/pas-de-repetition-2/
CATEGORIES:RÉPÉTITIONS
END:VEVENT
BEGIN:VEVENT
DTSTART;TZID=Europe/Paris:20251021T193000
DTEND;TZID=Europe/Paris:20251021T220000
DTSTAMP:20260423T185338
CREATED:20251008T193407Z
LAST-MODIFIED:20251027T102657Z
UID:467-1761075000-1761084000@batucbacana.fr
SUMMARY:🚨 PAS DE RÉPÉTITION
DESCRIPTION:Atelier Répenique
URL:https://batucbacana.fr/planning/pas-de-repetition-3/
CATEGORIES:RÉPÉTITIONS
END:VEVENT
BEGIN:VEVENT
DTSTART;TZID=Europe/Paris:20251028T193000
DTEND;TZID=Europe/Paris:20251028T220000
DTSTAMP:20260423T185338
CREATED:20251008T193435Z
LAST-MODIFIED:20251027T102502Z
UID:469-1761679800-1761688800@batucbacana.fr
SUMMARY:🚨 PAS DE RÉPÉTITION
DESCRIPTION:Atelier Tamborim et Caixa
URL:https://batucbacana.fr/planning/pas-de-repetition-4/
CATEGORIES:RÉPÉTITIONS
END:VEVENT
BEGIN:VEVENT
DTSTART;TZID=Europe/Paris:20251109T093000
DTEND;TZID=Europe/Paris:20251109T170000
DTSTAMP:20260423T185338
CREATED:20251008T195043Z
LAST-MODIFIED:20251008T200304Z
UID:480-1762680600-1762707600@batucbacana.fr
SUMMARY:🛠 WORKSHOP AVEC BROWN
DESCRIPTION:IL NE S’AGIT PAS D’UN STAGE ORGANISÉ PAR BACANA\nRapprochez-vous de Sophie pour plus d’infos – 06 63 80 22 37 \n\nMATIN – 9H30/12H : Initiation à la danse afro-brésilienne & capoeira\nAPRÈS-MIDI – 14H/17H : Atelier de percussions\nTARIFS : 20€ par créneau ou 30€ la journée entière
URL:https://batucbacana.fr/planning/workshop-avec-brown/
LOCATION:Centre culturel José Janson – Fabrègues\, 93 Rue Jean Marc Rouan\, Fabrègues\, 34690\, France
CATEGORIES:STAGES EXTÉRIEURS
END:VEVENT
BEGIN:VEVENT
DTSTART;TZID=Europe/Paris:20251111T193000
DTEND;TZID=Europe/Paris:20251111T220000
DTSTAMP:20260423T185338
CREATED:20251008T193503Z
LAST-MODIFIED:20251008T193804Z
UID:471-1762889400-1762898400@batucbacana.fr
SUMMARY:🚨 PAS DE RÉPÉTITION
DESCRIPTION:
URL:https://batucbacana.fr/planning/pas-de-repetition-5/
CATEGORIES:RÉPÉTITIONS
END:VEVENT
BEGIN:VEVENT
DTSTART;VALUE=DATE:20251122
DTEND;VALUE=DATE:20251123
DTSTAMP:20260423T185338
CREATED:20251027T095204Z
LAST-MODIFIED:20251107T005228Z
UID:510-1763769600-1763855999@batucbacana.fr
SUMMARY:🛠 STAGE PERCUSSIONS
DESCRIPTION:Afin de préparer au mieux la première sortie de l’année\, nous avons proposé à Clément d’animer le stage dans notre salle habituelle à Fabrègues : Le Samedi 22 Novembre\, Horaires 9h30-12h et 14h-17h avec un repas partagé en mode auberge espagnole le midi.
URL:https://batucbacana.fr/planning/stage-percussions/
LOCATION:Centre culturel José Janson – Fabrègues\, 93 Rue Jean Marc Rouan\, Fabrègues\, 34690\, France
CATEGORIES:STAGES BACANA
ORGANIZER;CN="Batuc'Bacana":MAILTO:batucbacana@gmail.com
END:VEVENT
BEGIN:VEVENT
DTSTART;TZID=Europe/Paris:20251214T100000
DTEND;TZID=Europe/Paris:20251214T130000
DTSTAMP:20260423T185338
CREATED:20251008T193720Z
LAST-MODIFIED:20251018T092529Z
UID:473-1765706400-1765717200@batucbacana.fr
SUMMARY:🎉 MARCHÉ DE NOËL - FABRÈGUES - 10H / 13H
DESCRIPTION:INFOS PRATIQUES À VENIR
URL:https://batucbacana.fr/planning/%f0%9f%8e%89-marche-de-noel-fabregues-10h30-13h/
CATEGORIES:SORTIES
END:VEVENT
BEGIN:VEVENT
DTSTART;TZID=Europe/Paris:20251216T193000
DTEND;TZID=Europe/Paris:20251216T220000
DTSTAMP:20260423T185339
CREATED:20251027T100708Z
LAST-MODIFIED:20251027T101852Z
UID:517-1765913400-1765922400@batucbacana.fr
SUMMARY:🚨 PAS DE RÉPÉTITION
DESCRIPTION:
URL:https://batucbacana.fr/planning/%f0%9f%9a%a8-pas-de-repetition/
CATEGORIES:RÉPÉTITIONS
END:VEVENT
BEGIN:VEVENT
DTSTART;TZID=Europe/Paris:20251223T193000
DTEND;TZID=Europe/Paris:20251223T220000
DTSTAMP:20260423T185339
CREATED:20251027T100731Z
LAST-MODIFIED:20251027T101819Z
UID:519-1766518200-1766527200@batucbacana.fr
SUMMARY:🚨 PAS DE RÉPÉTITION
DESCRIPTION:
URL:https://batucbacana.fr/planning/%f0%9f%9a%a8-pas-de-repetition-2/
CATEGORIES:RÉPÉTITIONS
END:VEVENT
BEGIN:VEVENT
DTSTART;TZID=Europe/Paris:20251230T193000
DTEND;TZID=Europe/Paris:20251230T220000
DTSTAMP:20260423T185339
CREATED:20251027T100750Z
LAST-MODIFIED:20251027T101646Z
UID:521-1767123000-1767132000@batucbacana.fr
SUMMARY:🚨 PAS DE RÉPÉTITION
DESCRIPTION:
URL:https://batucbacana.fr/planning/%f0%9f%9a%a8-pas-de-repetition-3/
CATEGORIES:RÉPÉTITIONS
END:VEVENT
BEGIN:VEVENT
DTSTART;TZID=Europe/Paris:20260106T193000
DTEND;TZID=Europe/Paris:20260106T220000
DTSTAMP:20260423T185339
CREATED:20251215T080801Z
LAST-MODIFIED:20251215T080801Z
UID:691-1767727800-1767736800@batucbacana.fr
SUMMARY:Galette des Rois et Répétition
DESCRIPTION:
URL:https://batucbacana.fr/planning/galette-des-rois-et-repetition/
LOCATION:Centre culturel José Janson – Fabrègues\, 93 Rue Jean Marc Rouan\, Fabrègues\, 34690\, France
CATEGORIES:RÉPÉTITIONS
ORGANIZER;CN="Batuc'Bacana":MAILTO:batucbacana@gmail.com
END:VEVENT
BEGIN:VEVENT
DTSTART;TZID=Europe/Paris:20260117T093000
DTEND;TZID=Europe/Paris:20260117T170000
DTSTAMP:20260423T185339
CREATED:20251008T195530Z
LAST-MODIFIED:20251215T075626Z
UID:487-1768642200-1768669200@batucbacana.fr
SUMMARY:🛠 STAGE BACANA
DESCRIPTION:Intervenant et programme à venir
URL:https://batucbacana.fr/planning/stage-bacana/
LOCATION:Centre culturel José Janson – Fabrègues\, 93 Rue Jean Marc Rouan\, Fabrègues\, 34690\, France
CATEGORIES:STAGES BACANA
END:VEVENT
BEGIN:VEVENT
DTSTART;TZID=Europe/Paris:20260213T190000
DTEND;TZID=Europe/Paris:20260213T233000
DTSTAMP:20260423T185339
CREATED:20260122T161308Z
LAST-MODIFIED:20260122T161857Z
UID:747-1771009200-1771025400@batucbacana.fr
SUMMARY:🎉 CARNAVAL BRÉSILIEN - Halle Tropisme à Montpellier
DESCRIPTION:Tenue Bacana plus accessoire : Des Plumes et Des Paillettes
URL:https://batucbacana.fr/planning/carnaval-bresilien-halle-tropisme-a-montpellier/
CATEGORIES:SORTIES
END:VEVENT
BEGIN:VEVENT
DTSTART;TZID=Europe/Paris:20260329T140000
DTEND;TZID=Europe/Paris:20260329T190000
DTSTAMP:20260423T185339
CREATED:20260122T162215Z
LAST-MODIFIED:20260122T163123Z
UID:753-1774792800-1774810800@batucbacana.fr
SUMMARY:🎉 CARNAVAL SAUVAGE à Sète
DESCRIPTION:RDV en face du Théâtre Molière\, Avenue Victor Hugo à Sète. \nDéguisement sur le thème : “C’est Chaud”
URL:https://batucbacana.fr/planning/%f0%9f%8e%89-carnaval-sauvage-a-sete/
CATEGORIES:SORTIES
END:VEVENT
BEGIN:VEVENT
DTSTART;TZID=Europe/Paris:20260411T174500
DTEND;TZID=Europe/Paris:20260411T203000
DTSTAMP:20260423T185339
CREATED:20260122T162742Z
LAST-MODIFIED:20260122T163148Z
UID:755-1775929500-1775939400@batucbacana.fr
SUMMARY:🎉 TRAIL à Cournonsec
DESCRIPTION:Association les Invincibles qui luttent contre la maladie de Charcot/SLA \nTenue Bacana
URL:https://batucbacana.fr/planning/%f0%9f%8e%89-trail-a-cournonsec/
CATEGORIES:SORTIES
END:VEVENT
BEGIN:VEVENT
DTSTART;TZID=Europe/Paris:20260503T080000
DTEND;TZID=Europe/Paris:20260503T130000
DTSTAMP:20260423T185339
CREATED:20260122T163006Z
LAST-MODIFIED:20260122T180631Z
UID:757-1777795200-1777813200@batucbacana.fr
SUMMARY:🎉 TRAIL à Sommières
DESCRIPTION:Tenue Bacana
URL:https://batucbacana.fr/planning/%f0%9f%8e%89-trail-a-sommiere/
CATEGORIES:SORTIES
END:VEVENT
BEGIN:VEVENT
DTSTART;TZID=Europe/Paris:20260808T093000
DTEND;TZID=Europe/Paris:20260808T140000
DTSTAMP:20260423T185339
CREATED:20251008T200152Z
LAST-MODIFIED:20260122T163449Z
UID:493-1786181400-1786197600@batucbacana.fr
SUMMARY:🎉 FÊTES VOTIVE à  Saint Bauzille de Putois
DESCRIPTION:Généralement nous jouons le samedi matin. \nNombreux sont ceux qui ont l’habitude d’arriver dès le vendredi soir et de ne repartir que le dimanche.\nLe CA réserve un emplacement assez grand auprès du camping du village mais chacun règle ses nuitées.
URL:https://batucbacana.fr/planning/%f0%9f%8e%89-fetes-de-saint-bauzille-de-putois/
CATEGORIES:SORTIES
END:VEVENT
END:VCALENDAR